BEGIN:VCALENDAR
VERSION:2.0
PRODID:-//Okręgowa Izba Radców Prawnych w Zielonej Górze - ECPv6.14.2//NONSGML v1.0//EN
CALSCALE:GREGORIAN
METHOD:PUBLISH
X-WR-CALNAME:Okręgowa Izba Radców Prawnych w Zielonej Górze
X-ORIGINAL-URL:https://zielonagora.oirp.pl
X-WR-CALDESC:Wydarzenia dla Okręgowa Izba Radców Prawnych w Zielonej Górze
REFRESH-INTERVAL;VALUE=DURATION:PT1H
X-Robots-Tag:noindex
X-PUBLISHED-TTL:PT1H
BEGIN:VTIMEZONE
TZID:Europe/Warsaw
BEGIN:DAYLIGHT
TZOFFSETFROM:+0100
TZOFFSETTO:+0200
TZNAME:CEST
DTSTART:20260329T010000
END:DAYLIGHT
BEGIN:STANDARD
TZOFFSETFROM:+0200
TZOFFSETTO:+0100
TZNAME:CET
DTSTART:20261025T010000
END:STANDARD
END:VTIMEZONE
BEGIN:VEVENT
DTSTART;TZID=Europe/Warsaw:20260219T170000
DTEND;TZID=Europe/Warsaw:20260219T200000
DTSTAMP:20260421T145355
CREATED:20260205T111236Z
LAST-MODIFIED:20260205T111236Z
UID:5158-1771520400-1771531200@zielonagora.oirp.pl
SUMMARY:KPC 2026 OBAWY I NADZIEJE ZWIĄZANE Z WNOSZENIEM PRZEZ PEŁNOMOCNIKÓW PISM PROCESOWYCH ZA POŚREDNICTWEM PORTALU INFORMACYJNEGO
DESCRIPTION:Okręgowa Izba Radców Prawnych w Zielonej Górze zaprasza na SZKOLENIE – WEBINARIUM nt. \n„KPC 2026 OBAWY I NADZIEJE ZWIĄZANE Z WNOSZENIEM PRZEZ PEŁNOMOCNIKÓW PISM PROCESOWYCH ZA POŚREDNICTWEM PORTALU INFORMACYJNEGO” \nProwadzący: SSO we Wrocławiu Grzegorz Karaś \nTermin i miejsce szkolenia: 19 lutego 2026 r. (czwartek) godz. 17.00 – 20.00  \nMiejsce: platforma szkoleniowa CLICKMEETING (w formie on-line) \nZa udział w szkoleniu przyznanych zostanie 6 pkt szkoleniowych. \nSerdecznie zapraszamy! \nUWAGA: \nRejestracja do dnia 18 lutego 2026 r.\, do godz. 15.00. \nLink do szkolenia – webinarium zostanie przesłany zarejestrowanym uczestnikom w dniu  19 lutego 2026 r.\, po zakończeniu rejestracji. Każdy link zabezpieczony będzie indywidualnym\, jednorazowym kodem\, który nie może być udostępniony osobom trzecim.  \nUdział w szkoleniu – webinarium: tylko członkowie OIRP w Zielonej Górze\, którzy nie zalegają z opłatą obowiązkowych składek członkowskich. \nPrzewodnicząca Komisji ds. Szkoleń Dorota Rataj \nREJESTRACJA: TUTAJ \nPodsumowanie \nSSO Grzegorz Karaś \nSędzia Sądu Okręgowego we Wrocławiu. Specjalista w dziedzinie prawa cywilnego\, prawa europejskiego oraz prawa nowych technologii. Zajmuje się informatyzacją sądownictwa. Od 2010 r. bierze czynny udział w projektowaniu i w wdrażaniu nowoczesnych rozwiązań informatycznych w sądach powszechnych. Pełnomocnik Koordynatora Krajowego ds. wdrażania systemów informatycznych w sądach powszechnych w Sądzie Okręgowym we Wrocławiu. W latach 2012–2014 Zastępca Dyrektora Departamentu Informatyzacji i Rejestrów Sądowych Ministerstwa Sprawiedliwości. Członek komitetów sterujących i zespołów projektowych projektów informatycznych prowadzonych przez Ministerstwo Sprawiedliwości. Autor publikacji z zakresu informatyzacji wymiaru sprawiedliwości.
URL:https://zielonagora.oirp.pl/event/kpc-2026-obawy-i-nadzieje-zwiazane-z-wnoszeniem-przez-pelnomocnikow-pism-procesowych-za-posrednictwem-portalu-informacyjnego/
END:VEVENT
END:VCALENDAR